BEGIN:VCALENDAR
VERSION:2.0
PRODID:-//Humean - Centre d&#039;orientation durable et bien-être professionnel - ECPv6.15.20//NONSGML v1.0//EN
CALSCALE:GREGORIAN
METHOD:PUBLISH
X-ORIGINAL-URL:https://humean.org
X-WR-CALDESC:Évènements pour Humean - Centre d&#039;orientation durable et bien-être professionnel
REFRESH-INTERVAL;VALUE=DURATION:PT1H
X-Robots-Tag:noindex
X-PUBLISHED-TTL:PT1H
BEGIN:VTIMEZONE
TZID:Indian/Reunion
BEGIN:STANDARD
TZOFFSETFROM:+0400
TZOFFSETTO:+0400
TZNAME:+04
DTSTART:20250101T000000
END:STANDARD
END:VTIMEZONE
BEGIN:VEVENT
DTSTART;TZID=Indian/Reunion:20260127T130000
DTEND;TZID=Indian/Reunion:20260127T150000
DTSTAMP:20260420T152037
CREATED:20260105T110914Z
LAST-MODIFIED:20260105T110914Z
UID:39451-1769518800-1769526000@humean.org
SUMMARY:ATELIER PERMACULTURE DU TRAVAIL – LE PROBLÈME EST LA SOLUTION
DESCRIPTION:
URL:https://humean.org/evenement/permaculture-du-travail-atelier-biomimetisme-applique/
LOCATION:La Passerelle – Bras de Pontho\, la Réunion\, 17 chemin Avril Amaye\, Le Tampon\, Bras de Pontho\, 97430
ATTACH;FMTTYPE=image/jpeg:https://humean.org/wp-content/uploads/2025/12/VIGNETTES-RESSOURCES-SITE-HUMEAN-13.jpg
ORGANIZER;CN="Jennifer Vignaud":MAILTO:jennifer@humean.org
END:VEVENT
END:VCALENDAR